BEGIN:VCALENDAR
VERSION:2.0
PRODID:St. Joseph County, MI Calendar Creator
METHOD:PUBLISH
BEGIN:VEVENT
DTSTAMP:20260203T181947
DTSTART:20260506T170000
DTEND:20260506T180000
SUMMARY:Parks & Recreation Commission
DESCRIPTION:
X-ALT-DESC;FMTTYPE=text/html:
LOCATION:MSU Extension Office\, St. Joseph County Annex Building II\, 612 E. Main St. Centreville\, Michigan 49032
CLASS:PUBLIC
END:VEVENT
END:VCALENDAR
