BEGIN:VCALENDAR
VERSION:2.0
PRODID:St. Joseph County, MI Calendar Creator
METHOD:PUBLISH
BEGIN:VEVENT
DTSTAMP:20260203T181800
DTSTART:20260211T120000
DTEND:20260211T130000
SUMMARY:Judiciary Committee
DESCRIPTION:3rd Floor, History Room
X-ALT-DESC;FMTTYPE=text/html:3rd Floor, History Room
LOCATION:St. Joseph County Historic Courthouse\, 125 W Main St Centreville\, Michigan 49032
CLASS:PUBLIC
END:VEVENT
END:VCALENDAR
