BEGIN:VCALENDAR
VERSION:2.0
PRODID:St. Joseph County, MI Calendar Creator
METHOD:PUBLISH
BEGIN:VEVENT
DTSTAMP:20260217T111857
DTSTART:20260225T180000
DTEND:20260225T190000
SUMMARY:Planning Commission - CANCELED
DESCRIPTION:
X-ALT-DESC;FMTTYPE=text/html:
LOCATION:MSU Extension Office\, St. Joseph County Annex Building II\, 612 E. Main St. Centreville\, Michigan 49032
CLASS:PUBLIC
END:VEVENT
END:VCALENDAR
