BEGIN:VCALENDAR
VERSION:2.0
PRODID:St. Joseph County, MI Calendar Creator
METHOD:PUBLISH
BEGIN:VEVENT
DTSTAMP:20260108T165150
DTSTART:20260408T140000
DTEND:20260408T150000
SUMMARY:Local Emergency Planning Committee
DESCRIPTION:
X-ALT-DESC;FMTTYPE=text/html:
LOCATION:Training Center\, 602 East Main Street Centreville\, Michigan 49032
CLASS:PUBLIC
END:VEVENT
END:VCALENDAR
